BEGIN:VCALENDAR
X-WR-TIMEZONE:Europe/Berlin
X-WR-CALNAME:rbb-Kalender
VERSION:2.0
METHOD:PUBLISH
CALSCALE:GREGORIAN
PRODID:rbb-CMS DAY
BEGIN:VEVENT
LOCATION:Das MDR-Erfindermagazin
CLASS:PUBLIC
URL:http://www.rbb-online.de/content/rbb/rbb/fernsehen/programm/06_04_2014/11898760917.html
DTEND:20140406T140500
DTSTART:20140406T134000
UID:/content/rbb/rbb/fernsehen/programm/06_04_2014/11898760917
DTSTAMP:20140404T183405
DESCRIPTION:Themen u.a.:\n* Geräuschlos, abgasfrei und schnell durch die Stadt: Der Elektroroller "Scuddy"\n* Ertragreich und bequem: Ein Hochbeet, das auf dem Balkon Platz hat\n* Sicher vor der Wohnungstür: Lockbox für leichtere Paketzustellung\n* Sicher für Fische: Ein Kraftwerk für kleinere Flüsse\n \nModeration: Arne Voigts
SUMMARY:Einfach genial 06.04.2014 13:40
END:VEVENT
END:VCALENDAR
