BEGIN:VCALENDAR
X-WR-TIMEZONE:Europe/Berlin
X-WR-CALNAME:rbb-Kalender
VERSION:2.0
METHOD:PUBLISH
CALSCALE:GREGORIAN
PRODID:rbb-CMS DAY
BEGIN:VEVENT
LOCATION:Spielfilm Deutschland/Jugoslawien/Frankreich/Italien 1964
CLASS:PUBLIC
URL:http://www.rbb-online.de/content/rbb/rbb/fernsehen/programm/06_04_2014/11898760925.html
DTEND:20140406T153500
DTSTART:20140406T140500
UID:/content/rbb/rbb/fernsehen/programm/06_04_2014/11898760925
DTSTAMP:20140404T183540
DESCRIPTION:Als der skrupellose Ganove Forrester einen Siedlertreck überfällt und den Verdacht auf die Indianer lenkt, müssen Winnetou und Old Shatterhand die Unschuld der Indianer beweisen, bevor die Soldaten einen Vergeltungsangriff starten und damit einen neuen Krieg heraufbeschwören. Legendärer Westernklassiker mit Pierre Brice und Lex Barker.\n
SUMMARY:Winnetou II 06.04.2014 14:05
END:VEVENT
END:VCALENDAR
