BEGIN:VCALENDAR
X-WR-TIMEZONE:Europe/Berlin
X-WR-CALNAME:rbb-Kalender
VERSION:2.0
METHOD:PUBLISH
CALSCALE:GREGORIAN
PRODID:rbb-CMS DAY
BEGIN:VEVENT
LOCATION:Verraten und verkauft
CLASS:PUBLIC
URL:http://www.rbb-online.de/content/rbb/rbb/fernsehen/programm/06_04_2014/11898760965.html
DTEND:20140406T175000
DTSTART:20140406T170500
UID:/content/rbb/rbb/fernsehen/programm/06_04_2014/11898760965
DTSTAMP:20140404T183245
DESCRIPTION:Bauhilfsarbeiter Peter Schulz hatte auf der Baustelle einen Unfall und wird mit einem gebrochenen Arm in die Sachsenklinik eingeliefert. Dort trifft er auf seinen Bruder Felix, der unter starken Leberbeschwerden leidet. Die beiden sind bei Pflegeeltern aufgewachsen und haben sich seit 20 Jahren nicht gesehen. Sofort bricht der alte Konflikt wieder auf: Peter wurde damals zu Unrecht für einen Brand auf dem elterlichen Firmengelände verantwortlich gemacht. Felix hat den Irrtum nie aufgeklärt. Der damals 13-jährige Peter wurde wieder ins Heim geschickt, was seinem Leben eine völlig andere Wendung gab.
SUMMARY:In aller Freundschaft (638) 06.04.2014 17:05
END:VEVENT
END:VCALENDAR
