BEGIN:VCALENDAR
X-WR-TIMEZONE:Europe/Berlin
X-WR-CALNAME:rbb-Kalender
VERSION:2.0
METHOD:PUBLISH
CALSCALE:GREGORIAN
PRODID:rbb-CMS DAY
BEGIN:VEVENT
LOCATION:29. Spieltag
CLASS:PUBLIC
URL:http://www.rbb-online.de/content/rbb/rbb/fernsehen/programm/06_04_2014/11898761174.html
DTEND:20140406T222000
DTSTART:20140406T220000
UID:/content/rbb/rbb/fernsehen/programm/06_04_2014/11898761174
DTSTAMP:20140404T183555
DESCRIPTION:Sonntagsspiele:\n* Eintracht Braunschweig - Hannover 96\n* Hertha BSC - TSG 1899 Hoffenheim   \n\nModeration: Claus Lufen
SUMMARY:Sportschau Bundesliga am Sonntag 06.04.2014 22:00
END:VEVENT
END:VCALENDAR
