BEGIN:VCALENDAR
X-WR-TIMEZONE:Europe/Berlin
X-WR-CALNAME:rbb-Kalender
VERSION:2.0
METHOD:PUBLISH
CALSCALE:GREGORIAN
PRODID:rbb-CMS DAY
BEGIN:VEVENT
LOCATION:Aktuelles vom Sport in Berlin und Brandenburg
CLASS:PUBLIC
URL:http://www.rbb-online.de/content/rbb/rbb/fernsehen/programm/07_04_2014/11901532927.html
DTEND:20140407T054000
DTSTART:20140407T050000
UID:/content/rbb/rbb/fernsehen/programm/07_04_2014/11901532927
DTSTAMP:20140404T183406
DESCRIPTION:In dieser Sendung:\n* Hertha will Heimsieg gegen Hoffenheim\n* Cottbus im "Abstiegskracher" gegen Dresden\n* Union will Minimalchance auf den Aufstieg wahren\n* BR Volleys im Playoff-Halbfinale gegen Bühl\n* Armwrestling aus Frankfurt/Oder\n* Fußball-Regionalliga: Babelsberg gegen Rathenow\n\nModeration: Sarah von Behren
SUMMARY:rbb Sportplatz 07.04.2014 05:00
END:VEVENT
END:VCALENDAR
