BEGIN:VCALENDAR
X-WR-TIMEZONE:Europe/Berlin
X-WR-CALNAME:rbb-Kalender
VERSION:2.0
METHOD:PUBLISH
CALSCALE:GREGORIAN
PRODID:rbb-CMS DAY
BEGIN:VEVENT
LOCATION:Magazin zu Religion und Kirche
CLASS:PUBLIC
URL:http://www.rbb-online.de/content/rbb/rbb/fernsehen/programm/07_04_2014/11901532957.html
DTEND:20140407T063000
DTSTART:20140407T060000
UID:/content/rbb/rbb/fernsehen/programm/07_04_2014/11901532957
DTSTAMP:20140404T201619
DESCRIPTION:Themen:\n* Opferhilfe\n* Heimwegtelefon\n* Aramäisch für Anfänger\n* Himmlische Tänze\n\nModeration: Friederike Sittler
SUMMARY:Himmel und Erde 07.04.2014 06:00
END:VEVENT
END:VCALENDAR
