BEGIN:VCALENDAR
X-WR-TIMEZONE:Europe/Berlin
X-WR-CALNAME:rbb-Kalender
VERSION:2.0
METHOD:PUBLISH
CALSCALE:GREGORIAN
PRODID:rbb-CMS DAY
BEGIN:VEVENT
LOCATION:Die Himalaja-Gebirgsbahn nach Darjeeling (Indien)
CLASS:PUBLIC
URL:http://www.rbb-online.de/content/rbb/rbb/fernsehen/programm/07_04_2014/11901533083.html
DTEND:20140407T095500
DTSTART:20140407T094000
UID:/content/rbb/rbb/fernsehen/programm/07_04_2014/11901533083
DTSTAMP:20140404T201622
DESCRIPTION:Die Schmalspurbahn der "Darjeeling Himalayan Railway" erklimmt qualmend und ächzend über 2.000 Meter Höhe. Der Bau einer der ersten Gebirgsbahnen der Welt war Ende des 19. Jahrhunderts eine technische Meisterleistung. Diese  würdigte die UNESCO mit der Erhebung der Gebirgsbahn zum Weltkulturerbe. 1881 fuhr der erste Dampfzug von der tropischen Ebene Bengalens ins Vorgebirge des Himalaja. Britisches Understatement würdigt den Zug mit einem liebevollen Spitznamen: "Toy Train", Spielzeugbahn. Ein unverwüstliches Spielzeug, das nach über hundert Jahren noch immer mit originaler Technik funktioniert.
SUMMARY:Schätze der Welt - Erbe der Menschheit 07.04.2014 09:40
END:VEVENT
END:VCALENDAR
