BEGIN:VCALENDAR
X-WR-TIMEZONE:Europe/Berlin
X-WR-CALNAME:rbb-Kalender
VERSION:2.0
METHOD:PUBLISH
CALSCALE:GREGORIAN
PRODID:rbb-CMS DAY
BEGIN:VEVENT
LOCATION:Die Wetteraussichten für Berlin und Brandenburg
CLASS:PUBLIC
URL:http://www.rbb-online.de/content/rbb/rbb/fernsehen/programm/07_04_2014/11901533393.html
DTEND:20140407T183000
DTSTART:20140407T182500
UID:/content/rbb/rbb/fernsehen/programm/07_04_2014/11901533393
DTSTAMP:20140404T201544
DESCRIPTION:
SUMMARY:rbb wetter 07.04.2014 18:25
END:VEVENT
END:VCALENDAR
