BEGIN:VCALENDAR
X-WR-TIMEZONE:Europe/Berlin
X-WR-CALNAME:rbb-Kalender
VERSION:2.0
METHOD:PUBLISH
CALSCALE:GREGORIAN
PRODID:rbb-CMS DAY
BEGIN:VEVENT
LOCATION:zuhause in berlin & brandenburg
CLASS:PUBLIC
URL:http://www.rbb-online.de/content/rbb/rbb/fernsehen/programm/07_04_2014/11901533412.html
DTEND:20140407T192500
DTSTART:20140407T183000
UID:/content/rbb/rbb/fernsehen/programm/07_04_2014/11901533412
DTSTAMP:20140404T201701
DESCRIPTION:+ Auf zu neuen guten Taten!\n+ Aufschlag für neuen Trendsport\n+ Auf dem Bauernhof aufwachsen\n\n\n\n\n
SUMMARY:zibb 07.04.2014 18:30
END:VEVENT
END:VCALENDAR
