BEGIN:VCALENDAR
X-WR-TIMEZONE:Europe/Berlin
X-WR-CALNAME:rbb-Kalender
VERSION:2.0
METHOD:PUBLISH
CALSCALE:GREGORIAN
PRODID:rbb-CMS DAY
BEGIN:VEVENT
LOCATION:Durch die Türkei bis zum Iran
CLASS:PUBLIC
URL:http://www.rbb-online.de/content/rbb/rbb/fernsehen/programm/07_04_2014/11901533498.html
DTEND:20140407T210000
DTSTART:20140407T201500
UID:/content/rbb/rbb/fernsehen/programm/07_04_2014/11901533498
DTSTAMP:20140404T201250
DESCRIPTION:Zwei Geländewagen, ein Team und 27.000 Straßenkilometer. Ein neues zehnteiliges Roadmovie lädt die Zuschauer ein zum außergewöhnlichen Abenteuer "fernOST - Von Berlin nach Tokio". Eine Reise quer durch Asien immer entlang der Straßen des "Asian Highway". Von Berlin durch Osteuropa und den Balkan: Abschied von Bekanntem und Begegnung mit dem Fremden auf dem Weg nach Asien.\n
SUMMARY:fernOst - Von Berlin nach Tokio (1/10) 07.04.2014 20:15
END:VEVENT
END:VCALENDAR
