BEGIN:VCALENDAR
X-WR-TIMEZONE:Europe/Berlin
X-WR-CALNAME:rbb-Kalender
VERSION:2.0
METHOD:PUBLISH
CALSCALE:GREGORIAN
PRODID:rbb-CMS DAY
BEGIN:VEVENT
LOCATION:Kriminalfilm Deutschland 1991
CLASS:PUBLIC
URL:http://www.rbb-online.de/content/rbb/rbb/fernsehen/programm/07_04_2014/11901533544.html
DTEND:20140408T000000
DTSTART:20140407T224500
UID:/content/rbb/rbb/fernsehen/programm/07_04_2014/11901533544
DTSTAMP:20140404T201643
DESCRIPTION:Ein tragischer Unfall - wenige Sekunden, die ein Menschenleben radikal verändern. Ziele, Träume und Hoffnungen eines Sechsundzwanzigjährigen zerplatzen. Ein junger Mann wird durch einen Verkehrsunfall zum Krüppel, der Verursacher flieht, entzieht sich der Verantwortung. Falsche Aussagen, in die Irre führende Spuren und das Vortäuschen falscher Tatsachen und eine heimliche Liebesaffäre erschweren die Arbeit der Kripo. Hinzu kommt, dass der 18-jährige Bruder des Verunglückten, Michael Preibisch, auf eigene Faust die Suche nach dem Täter aufnimmt. Damit gerät die Polizei zusätzlich unter Druck.
SUMMARY:Polizeiruf 110: Der Fall Preibisch 07.04.2014 22:45
END:VEVENT
END:VCALENDAR
