BEGIN:VCALENDAR
X-WR-TIMEZONE:Europe/Berlin
X-WR-CALNAME:rbb-Kalender
VERSION:2.0
METHOD:PUBLISH
CALSCALE:GREGORIAN
PRODID:rbb-CMS DAY
BEGIN:VEVENT
LOCATION:Späte Rache
CLASS:PUBLIC
URL:http://www.rbb-online.de/content/rbb/rbb/fernsehen/programm/08_04_2014/11907266959.html
DTEND:20140408T004500
DTSTART:20140408T000000
UID:/content/rbb/rbb/fernsehen/programm/08_04_2014/11907266959
DTSTAMP:20140404T201547
DESCRIPTION:Mord und Erpressung umgeben Jessica, während sie unterwegs ist, um einen neuen Buchclub zu bewerben.
SUMMARY:Mord ist ihr Hobby (229) 08.04.2014 00:00
END:VEVENT
END:VCALENDAR
