BEGIN:VCALENDAR
X-WR-TIMEZONE:Europe/Berlin
X-WR-CALNAME:rbb-Kalender
VERSION:2.0
METHOD:PUBLISH
CALSCALE:GREGORIAN
PRODID:rbb-CMS DAY
BEGIN:VEVENT
LOCATION:Magazin zu Religion und Kirche
CLASS:PUBLIC
URL:http://www.rbb-online.de/content/rbb/rbb/fernsehen/programm/08_04_2014/11907267124.html
DTEND:20140408T051500
DTSTART:20140408T044500
UID:/content/rbb/rbb/fernsehen/programm/08_04_2014/11907267124
DTSTAMP:20140404T201625
DESCRIPTION:Themen:\n* Opferhilfe\n* Heimwegtelefon\n* Aramäisch für Anfänger\n* Himmlische Tänze\n\nModeration: Friederike Sittler
SUMMARY:Himmel und Erde 08.04.2014 04:45
END:VEVENT
END:VCALENDAR
