BEGIN:VCALENDAR
X-WR-TIMEZONE:Europe/Berlin
X-WR-CALNAME:rbb-Kalender
VERSION:2.0
METHOD:PUBLISH
CALSCALE:GREGORIAN
PRODID:rbb-CMS DAY
BEGIN:VEVENT
LOCATION:Die Welt von morgen
CLASS:PUBLIC
URL:http://www.rbb-online.de/content/rbb/rbb/fernsehen/programm/08_04_2014/11907267207.html
DTEND:20140408T073000
DTSTART:20140408T070000
UID:/content/rbb/rbb/fernsehen/programm/08_04_2014/11907267207
DTSTAMP:20140404T193111
DESCRIPTION:nano bereitet Wissenschaft Tag für Tag verständlich auf und behandelt Themen wie Atomausstieg, Klima, Elektrosmog oder Stammzellen. nano nimmt sich dieser Themen an, klärt auf, informiert kompetent und beleuchtet die Hintergründe.\n\nModeration: Kristina zur Mühlen
SUMMARY:nano 08.04.2014 07:00
END:VEVENT
END:VCALENDAR
