BEGIN:VCALENDAR
X-WR-TIMEZONE:Europe/Berlin
X-WR-CALNAME:rbb-Kalender
VERSION:2.0
METHOD:PUBLISH
CALSCALE:GREGORIAN
PRODID:rbb-CMS DAY
BEGIN:VEVENT
LOCATION:Verstand und Sinne
CLASS:PUBLIC
URL:http://www.rbb-online.de/content/rbb/rbb/fernsehen/programm/08_04_2014/11907267224.html
DTEND:20140408T074500
DTSTART:20140408T073000
UID:/content/rbb/rbb/fernsehen/programm/08_04_2014/11907267224
DTSTAMP:20140404T193155
DESCRIPTION:Eva und Sophie hängen Suchplakate für den entlaufenen Kater Schröder auf. Sophie bleibt deswegen lieber zu Hause und lernt. Als sie sich gerade in die "Kritik der reinen Vernunft" vertieft hat, taucht Kant wieder auf. Er erklärt ihr den Begriff "Ästhetik" und seinen zentralen Satz: "Gedanken ohne Inhalt sind leer und Anschauungen ohne Begriffe sind blind." Als Sophie Kant zum Tee einlädt, demonstriert der ihr auf einer Küchentafel die transzendentale Analytik. Währenddessen klingelt es plötzlich an der Tür und Sebastian steht mit dem Kater vor Sophie. Gemeinsam wird auf Schröders Heimkehr angestoßen!
SUMMARY:Kant für Anfänger (3/5) 08.04.2014 07:30
END:VEVENT
END:VCALENDAR
