BEGIN:VCALENDAR
X-WR-TIMEZONE:Europe/Berlin
X-WR-CALNAME:rbb-Kalender
VERSION:2.0
METHOD:PUBLISH
CALSCALE:GREGORIAN
PRODID:rbb-CMS DAY
BEGIN:VEVENT
LOCATION:Fernsehserie Deutschland 2014
CLASS:PUBLIC
URL:http://www.rbb-online.de/content/rbb/rbb/fernsehen/programm/08_04_2014/11907267323.html
DTEND:20140408T112500
DTSTART:20140408T103500
UID:/content/rbb/rbb/fernsehen/programm/08_04_2014/11907267323
DTSTAMP:20140404T193015
DESCRIPTION:Rieke macht ihre berufliche Situation schwer zu schaffen. In einer Kurzschlussreaktion postet sie ein Stellengesuch in ihrem sozialen Netzwerk. Als Mick sie zur Rede stellt, redet Rieke sich heraus. Gerade als er ihr einen Liebesbeweis schenken will, gesteht sie, dass sie Lüneburg verlassen wird.
SUMMARY:Rote Rosen (1699) 08.04.2014 10:35
END:VEVENT
END:VCALENDAR
