BEGIN:VCALENDAR
X-WR-TIMEZONE:Europe/Berlin
X-WR-CALNAME:rbb-Kalender
VERSION:2.0
METHOD:PUBLISH
CALSCALE:GREGORIAN
PRODID:rbb-CMS DAY
BEGIN:VEVENT
LOCATION:Fernsehserie Deutschland 2014
CLASS:PUBLIC
URL:http://www.rbb-online.de/content/rbb/rbb/fernsehen/programm/08_04_2014/11907267330.html
DTEND:20140408T121500
DTSTART:20140408T112500
UID:/content/rbb/rbb/fernsehen/programm/08_04_2014/11907267330
DTSTAMP:20140404T193159
DESCRIPTION:Natascha muss Friedrich ihr Missgeschick beichten. Alarmiert unternimmt dieser mit Michaels Hilfe einen letzten Versuch, den DNA-Test zu stoppen. Doch Werner behauptet, dass dieser Test dringend notwendig ist, um die Lungenfunktion der beiden Zwillinge zu überprüfen. Fassungslos erfahren nun auch Charlotte und Leonard von dem Test. Als Werner Leonard darauf hinweist, dass er doch genauso dringend Gewissheit bekommen möchte wie er, kann Leonard das Testergebnis kaum noch abwarten. Am nächsten Tag hält Werner triumphierend den Umschlag in der Hand ...
SUMMARY:Sturm der Liebe (1959) 08.04.2014 11:25
END:VEVENT
END:VCALENDAR
