BEGIN:VCALENDAR
X-WR-TIMEZONE:Europe/Berlin
X-WR-CALNAME:rbb-Kalender
VERSION:2.0
METHOD:PUBLISH
CALSCALE:GREGORIAN
PRODID:rbb-CMS DAY
BEGIN:VEVENT
LOCATION:Mord in Kairo
CLASS:PUBLIC
URL:http://www.rbb-online.de/content/rbb/rbb/fernsehen/programm/08_04_2014/11907267405.html
DTEND:20140408T141500
DTSTART:20140408T133000
UID:/content/rbb/rbb/fernsehen/programm/08_04_2014/11907267405
DTSTAMP:20140404T193412
DESCRIPTION:Die Verwicklung eines lieben Freundes in den Diebstahl eines unbezahlbaren ägyptischen Kunstschatzes sowie ein Mord rufen Jessica auf den Plan.
SUMMARY:Mord ist ihr Hobby (232) 08.04.2014 13:30
END:VEVENT
END:VCALENDAR
