BEGIN:VCALENDAR
X-WR-TIMEZONE:Europe/Berlin
X-WR-CALNAME:rbb-Kalender
VERSION:2.0
METHOD:PUBLISH
CALSCALE:GREGORIAN
PRODID:rbb-CMS DAY
BEGIN:VEVENT
LOCATION:Professor Zrenner lässt Blinde wieder sehen
CLASS:PUBLIC
URL:http://www.rbb-online.de/content/rbb/rbb/fernsehen/programm/08_04_2014/11907267427.html
DTEND:20140408T151500
DTSTART:20140408T141500
UID:/content/rbb/rbb/fernsehen/programm/08_04_2014/11907267427
DTSTAMP:20140404T193000
DESCRIPTION:Es klingt ein wenig nach Cyborg: Mit einem Chip im Auge können Blinde wieder sehen. Science Fiction? Ein Wunder? Professor Eberhart Zrenner von der Universitäts-Augenklinik Tübingen wollte mit seinem Forscherteam das scheinbar Unmögliche wahr machen. Nach jahrelanger Forschung und einigen Rückschlägen gelang den Medizinern im Jahr 2009 der Durchbruch: Der erste Patient konnte nach einer Augen-OP seinen Namen wieder lesen. \n\nModeration: Birgit Klaus und Dennis Wilms
SUMMARY:Planet Wissen 08.04.2014 14:15
END:VEVENT
END:VCALENDAR
