BEGIN:VCALENDAR
X-WR-TIMEZONE:Europe/Berlin
X-WR-CALNAME:rbb-Kalender
VERSION:2.0
METHOD:PUBLISH
CALSCALE:GREGORIAN
PRODID:rbb-CMS DAY
BEGIN:VEVENT
LOCATION:Abenteuer Afrika
CLASS:PUBLIC
URL:http://www.rbb-online.de/content/rbb/rbb/fernsehen/programm/08_04_2014/11907267528.html
DTEND:20140408T175500
DTSTART:20140408T170500
UID:/content/rbb/rbb/fernsehen/programm/08_04_2014/11907267528
DTSTAMP:20140404T193018
DESCRIPTION:Heute sollen die Warzenschweinbabys umziehen. Im Garten von Harnas-Chefin Marieta fühlen die Ferkel sich aber wie zu Hause, ein Umzug ist so gar nicht nach ihrer Nase. Mittlerweile sind sie drei Monate alt und haben Namen bekommen: "Ham" und "Bacon, also "Schinken" und "Speck". Auf Harnas hat man eben einen speziellen Humor. Im Leopardengehege muss der Zaun überprüft werden - in direkter Nachbarschaft von Hellboy. Er ist der angriffslustigste der Harnas-Leoparden. So entstand auch sein Name: Höllenjunge. Geplant ist heute auch ein Spaziergang am Rande der Lifeline mit den Geparden-Senioren.
SUMMARY:Das Waisenhaus für wilde Tiere (59) 08.04.2014 17:05
END:VEVENT
END:VCALENDAR
