BEGIN:VCALENDAR
X-WR-TIMEZONE:Europe/Berlin
X-WR-CALNAME:rbb-Kalender
VERSION:2.0
METHOD:PUBLISH
CALSCALE:GREGORIAN
PRODID:rbb-CMS DAY
BEGIN:VEVENT
CLASS:PUBLIC
URL:http://www.rbb-online.de/content/rbb/rbb/fernsehen/programm/08_04_2014/11907267559.html
DTEND:20140408T182500
DTSTART:20140408T180000
UID:/content/rbb/rbb/fernsehen/programm/08_04_2014/11907267559
DTSTAMP:20140404T193330
DESCRIPTION:Hier arbeiten Leute aus Berlin und Brandenburg zusammen, die das Land und die Stadt im Blick bzw. Blut haben. Sie wissen, was morgen Gesprächsstoff wird, denn sie arbeiten und planen aktuell. Grundlage für die Arbeit ist eine enge Kooperation mit den "Flaggschiffen" Abendschau und Brandenburg aktuell - sowie gute Kontakte zu den benachbarten öffentlich-rechtlichen Sendern. Wichtiges Kriterium für rbb UM SECHS: Wir zeigen, was die Region bewegt, was emotionale Nähe hat.
SUMMARY:rbb UM SECHS - Das Ländermagazin 08.04.2014 18:00
END:VEVENT
END:VCALENDAR
