BEGIN:VCALENDAR
X-WR-TIMEZONE:Europe/Berlin
X-WR-CALNAME:rbb-Kalender
VERSION:2.0
METHOD:PUBLISH
CALSCALE:GREGORIAN
PRODID:rbb-CMS DAY
BEGIN:VEVENT
LOCATION:Die Wetteraussichten für Berlin und Brandenburg
CLASS:PUBLIC
URL:http://www.rbb-online.de/content/rbb/rbb/fernsehen/programm/08_04_2014/11907267621.html
DTEND:20140408T193000
DTSTART:20140408T192500
UID:/content/rbb/rbb/fernsehen/programm/08_04_2014/11907267621
DTSTAMP:20140404T193204
DESCRIPTION:
SUMMARY:rbb wetter 08.04.2014 19:25
END:VEVENT
END:VCALENDAR
