BEGIN:VCALENDAR
X-WR-TIMEZONE:Europe/Berlin
X-WR-CALNAME:rbb-Kalender
VERSION:2.0
METHOD:PUBLISH
CALSCALE:GREGORIAN
PRODID:rbb-CMS DAY
BEGIN:VEVENT
LOCATION:Durch China bis nach Myanmar
CLASS:PUBLIC
URL:http://www.rbb-online.de/content/rbb/rbb/fernsehen/programm/08_04_2014/11907267690.html
DTEND:20140408T214500
DTSTART:20140408T210000
UID:/content/rbb/rbb/fernsehen/programm/08_04_2014/11907267690
DTSTAMP:20140404T193406
DESCRIPTION:Zwei Geländewagen, ein Team und 27.000 Straßenkilometer. Ein neues Roadmovie lädt die Zuschauer ein zum außergewöhnlichen Abenteuer "fernOST - Von Berlin nach Tokio". Eine Reise quer durch Asien immer entlang der Straßen des "Asian Highway". Eine lange Fahrt durch die Wüste Taklamakan führt zur Mitte Chinas und nach Myanmar, das ehemalige Burma.
SUMMARY:fernOST - Von Berlin nach Tokio (4/10) 08.04.2014 21:00
END:VEVENT
END:VCALENDAR
