BEGIN:VCALENDAR
X-WR-TIMEZONE:Europe/Berlin
X-WR-CALNAME:rbb-Kalender
VERSION:2.0
METHOD:PUBLISH
CALSCALE:GREGORIAN
PRODID:rbb-CMS DAY
BEGIN:VEVENT
LOCATION:Wie die Finanzkrise in mein Wohnzimmer kam
CLASS:PUBLIC
URL:http://www.rbb-online.de/content/rbb/rbb/fernsehen/programm/08_04_2014/11907267739.html
DTEND:20140408T233000
DTSTART:20140408T224500
UID:/content/rbb/rbb/fernsehen/programm/08_04_2014/11907267739
DTSTAMP:20140404T193423
DESCRIPTION:Wer kann, kauft Immobilien. Wer schnelles Geld verdienen will, investiert, saniert, verdrängt. Die Filmemacherin und alleinerziehende Mutter Katrin Rothe, Anfang 40, schildert an ihrem Beispiel, was es heißt, wenn aus der eigenen Mietwohnung eine luxussanierte Eigentumswohnung werden soll.\n
SUMMARY:Betongold 08.04.2014 22:45
END:VEVENT
END:VCALENDAR
