BEGIN:VCALENDAR
X-WR-TIMEZONE:Europe/Berlin
X-WR-CALNAME:rbb-Kalender
VERSION:2.0
METHOD:PUBLISH
CALSCALE:GREGORIAN
PRODID:rbb-CMS DAY
BEGIN:VEVENT
LOCATION:08.04.1989
CLASS:PUBLIC
URL:http://www.rbb-online.de/content/rbb/rbb/fernsehen/programm/09_04_2014/11913479232.html
DTEND:20140409T024000
DTSTART:20140409T021500
UID:/content/rbb/rbb/fernsehen/programm/09_04_2014/11913479232
DTSTAMP:20140404T193139
DESCRIPTION:Die Abendschau berichtet seit 1958 über das Wichtigste aus Politik, Kultur, Wirtschaft und Sport, die Szenetrends und die Kiezgeschichten.
SUMMARY:Berliner Abendschau: Vor 25 Jahren 09.04.2014 02:15
END:VEVENT
END:VCALENDAR
