BEGIN:VCALENDAR
X-WR-TIMEZONE:Europe/Berlin
X-WR-CALNAME:rbb-Kalender
VERSION:2.0
METHOD:PUBLISH
CALSCALE:GREGORIAN
PRODID:rbb-CMS DAY
BEGIN:VEVENT
LOCATION:Zielpunkt Vernunft
CLASS:PUBLIC
URL:http://www.rbb-online.de/content/rbb/rbb/fernsehen/programm/09_04_2014/11913479422.html
DTEND:20140409T074500
DTSTART:20140409T073000
UID:/content/rbb/rbb/fernsehen/programm/09_04_2014/11913479422
DTSTAMP:20140404T202819
DESCRIPTION:Der Tag der Prüfung. Sophie trifft sich kurz vorher noch mit Sebastian an der Uni. Er schlägt ihr vor, sich vorzustellen, dass Kant mit in der Prüfung sitzt und Sophie alles vorsagt. Mit dieser Methode schafft es Sophie, alle Fragen zur Kopernikanischen Wende, dem transzendentalen Schema, den Antinomien und der transzendentalen Dialektik zu beantworten. Nach der Prüfung wird Sophie gespannt von Eva und Sebastian erwartet. Sie geht aber noch einmal zurück in die Bibliothek, um sich bei Professor Kant zu bedanken und sich von ihm zu verabschieden.
SUMMARY:Kant für Anfänger (5/5) 09.04.2014 07:30
END:VEVENT
END:VCALENDAR
