BEGIN:VCALENDAR
X-WR-TIMEZONE:Europe/Berlin
X-WR-CALNAME:rbb-Kalender
VERSION:2.0
METHOD:PUBLISH
CALSCALE:GREGORIAN
PRODID:rbb-CMS DAY
BEGIN:VEVENT
LOCATION:Ethik und Pflicht
CLASS:PUBLIC
URL:http://www.rbb-online.de/content/rbb/rbb/fernsehen/programm/09_04_2014/11913479429.html
DTEND:20140409T080000
DTSTART:20140409T074500
UID:/content/rbb/rbb/fernsehen/programm/09_04_2014/11913479429
DTSTAMP:20140404T202512
DESCRIPTION:Sophie muss ein Referat für ihr Seminar über den kategorischen Imperativ vorbereiten. Als sie sich in der Bibliothek gerade in ihre Lektüre vertiefen will, tritt Kant persönlich zwischen den Bücherregalen hervor - und stellt sich bereitwillig ihren Fragen zur Moralphilosophie und Ethik, dem Herzstück seiner Philosophie.
SUMMARY:Kant, Sophie und der kategorische Imperativ (1/5) 09.04.2014 07:45
END:VEVENT
END:VCALENDAR
