BEGIN:VCALENDAR
X-WR-TIMEZONE:Europe/Berlin
X-WR-CALNAME:rbb-Kalender
VERSION:2.0
METHOD:PUBLISH
CALSCALE:GREGORIAN
PRODID:rbb-CMS DAY
BEGIN:VEVENT
LOCATION:Auf der Flucht
CLASS:PUBLIC
URL:http://www.rbb-online.de/content/rbb/rbb/fernsehen/programm/09_04_2014/11913479549.html
DTEND:20140409T130000
DTSTART:20140409T121500
UID:/content/rbb/rbb/fernsehen/programm/09_04_2014/11913479549
DTSTAMP:20140404T202534
DESCRIPTION:In der Notaufnahme beginnt der Tag mit einem scheinbaren Routinefall. Der Antiquar Michael Hegemann bringt seine Frau Cornelia in die Sachsenklinik, weil sie eine stark blutende Platzwunde über dem Auge hat und über Kopfschmerzen klagt. Dr. Eichhorn vermutet, dass es sich nicht um einen Unfall, sondern um einen Fall von häuslicher Gewalt handelt. Philipp Brentano und Gernot Simoni warnen die Ärztin vor voreiligen Schlüssen. Am nächsten Tag liefert Michael seinen Sohn Paul mit einer Milzruptur in die Klinik ein. Sein Sohn sei eine Treppe runtergestürzt. Die Ärzte können den Riss in der Milz kleben.
SUMMARY:In aller Freundschaft (369) 09.04.2014 12:15
END:VEVENT
END:VCALENDAR
