BEGIN:VCALENDAR
X-WR-TIMEZONE:Europe/Berlin
X-WR-CALNAME:rbb-Kalender
VERSION:2.0
METHOD:PUBLISH
CALSCALE:GREGORIAN
PRODID:rbb-CMS DAY
BEGIN:VEVENT
LOCATION:Jugendserie Deutschland 1998 - 2011
CLASS:PUBLIC
URL:http://www.rbb-online.de/content/rbb/rbb/fernsehen/programm/09_04_2014/11913479590.html
DTEND:20140409T133000
DTSTART:20140409T130500
UID:/content/rbb/rbb/fernsehen/programm/09_04_2014/11913479590
DTSTAMP:20140404T202708
DESCRIPTION:Die Lehrer spüren es in ihren Knochen, dass sie die Doppelbelastung, Pädagoge und Eisdielenbetreiber zugleich zu sein, nicht mehr lange durchhalten. Die Schüler machen es ihnen auch nicht einfach, da sie null Bock auf Zwangsunterricht beim Eisessen haben. Doch auch die Resonanz auf die Internetanzeige, die die Schloss-Einstein-Kids aufgegeben hatten, ist alles andere als ermutigend: Die Antworten der Bewerber, die neuer Besitzer der Seelitzer Eisdiele werden wollen, sind nicht gerade prickelnd.
SUMMARY:Schloss Einstein (228) 09.04.2014 13:05
END:VEVENT
END:VCALENDAR
