BEGIN:VCALENDAR
X-WR-TIMEZONE:Europe/Berlin
X-WR-CALNAME:rbb-Kalender
VERSION:2.0
METHOD:PUBLISH
CALSCALE:GREGORIAN
PRODID:rbb-CMS DAY
BEGIN:VEVENT
LOCATION:Film von Eberhard Weiß
CLASS:PUBLIC
URL:http://www.rbb-online.de/content/rbb/rbb/fernsehen/programm/09_04_2014/11913479643.html
DTEND:20140409T160000
DTSTART:20140409T151500
UID:/content/rbb/rbb/fernsehen/programm/09_04_2014/11913479643
DTSTAMP:20140404T202615
DESCRIPTION:Bird Island, etwa hundert Kilometer nördlich von Mahé, wurde 1756 entdeckt. Es hieß zunächst Ile aux vaches, da rundum Dugongs - Seekühe - grasten. Doch die Seekühe wurden ausgerottet. Später wurde die Insel zur Heimat von Millionen von Seevögeln. Eine riesige Kolonie von Rußseeschwalben nistet von Mai bis Oktober auf Bird Island. Auf der Insel gibt es keine Straßen und keine Autos. Bird Island Lodge wird von Guy Savage betrieben, einem Seychellios, der Bird Island gekauft hat. Eine weitere Attraktion ist die Riesenschildkröte Esmeralda. Sie gilt als größte und schwerste Landschildkröte.
SUMMARY:Brutplatz für Millionen - Seevögel der Seychellen 09.04.2014 15:15
END:VEVENT
END:VCALENDAR
