BEGIN:VCALENDAR
X-WR-TIMEZONE:Europe/Berlin
X-WR-CALNAME:rbb-Kalender
VERSION:2.0
METHOD:PUBLISH
CALSCALE:GREGORIAN
PRODID:rbb-CMS DAY
BEGIN:VEVENT
LOCATION:Treptow-Köpenick
CLASS:PUBLIC
URL:http://www.rbb-online.de/content/rbb/rbb/fernsehen/programm/09_04_2014/11913479672.html
DTEND:20140409T165000
DTSTART:20140409T160500
UID:/content/rbb/rbb/fernsehen/programm/09_04_2014/11913479672
DTSTAMP:20140404T202704
DESCRIPTION:Der Berlin-Brandenburg Check untersucht auf unterhaltsame Weise die Lebensqualität in Berliner Bezirken und Brandenburger Landkreisen. Diesmal wird Treptow-Köpenick getestet. Der Stadtbezirk ist der flächenmäßig größte, grünste und wasserreichste Berliner Bezirk. 2001 wurden Treptow und Köpenick zu einem Bezirk zusammengelegt. Aber ist es wirklich e i n Bezirk?
SUMMARY:Der Berlin-Brandenburg Check 09.04.2014 16:05
END:VEVENT
END:VCALENDAR
