BEGIN:VCALENDAR
X-WR-TIMEZONE:Europe/Berlin
X-WR-CALNAME:rbb-Kalender
VERSION:2.0
METHOD:PUBLISH
CALSCALE:GREGORIAN
PRODID:rbb-CMS DAY
BEGIN:VEVENT
LOCATION:Abenteuer Afrika
CLASS:PUBLIC
URL:http://www.rbb-online.de/content/rbb/rbb/fernsehen/programm/09_04_2014/11913479736.html
DTEND:20140409T175500
DTSTART:20140409T170500
UID:/content/rbb/rbb/fernsehen/programm/09_04_2014/11913479736
DTSTAMP:20140404T202433
DESCRIPTION:Die Löffelhundrüden Fatty und Fatso wurden von Hand aufgezogen und leben abseits vom Hauptrudel. Nun fehlt ihnen ein Familienritual: die Fellpflege. Die übernimmt heute Volontärin Dagmar. Auch Fohlen Kolboy ist eine Handaufzucht. Er ist mittlerweile acht Monate alt und lebt auf einer Wiese im Farmzentrum. Es wird Zeit, dass er Spielkameraden kennenlernt - und damit sind nicht die Volontärinnen gemeint, sonder ein junges Maultier. In einem Gehege mitten im Farmzentrum leben zwei handaufgezogene Paviane. Sie bekommen Besuch von Severine, die erst gestern angekommen ist.
SUMMARY:Das Waisenhaus für wilde Tiere (60) 09.04.2014 17:05
END:VEVENT
END:VCALENDAR
