BEGIN:VCALENDAR
X-WR-TIMEZONE:Europe/Berlin
X-WR-CALNAME:rbb-Kalender
VERSION:2.0
METHOD:PUBLISH
CALSCALE:GREGORIAN
PRODID:rbb-CMS DAY
BEGIN:VEVENT
LOCATION:Von Myanmar nach Bangkok
CLASS:PUBLIC
URL:http://www.rbb-online.de/content/rbb/rbb/fernsehen/programm/09_04_2014/11913479884.html
DTEND:20140409T210000
DTSTART:20140409T201500
UID:/content/rbb/rbb/fernsehen/programm/09_04_2014/11913479884
DTSTAMP:20140404T202827
DESCRIPTION:Zwei Geländewagen, ein Team und 27.000 Straßenkilometer. Ein neues Roadmovie lädt die Zuschauer ein zum außergewöhnlichen Abenteuer "fernOST - Von Berlin nach Tokio". Eine Reise quer durch Asien immer entlang der Straßen des "Asian Highway". Auf und ab durchs Dschungelland: Durch das geheimnisvolle Myanmar bis ins Touristenparadies Thailand.
SUMMARY:fernOST - Von Berlin nach Tokio (5/10) 09.04.2014 20:15
END:VEVENT
END:VCALENDAR
