BEGIN:VCALENDAR
X-WR-TIMEZONE:Europe/Berlin
X-WR-CALNAME:rbb-Kalender
VERSION:2.0
METHOD:PUBLISH
CALSCALE:GREGORIAN
PRODID:rbb-CMS DAY
BEGIN:VEVENT
LOCATION:wirtschaft arbeit sparen
CLASS:PUBLIC
URL:http://www.rbb-online.de/content/rbb/rbb/fernsehen/programm/09_04_2014/11913479924.html
DTEND:20140409T224500
DTSTART:20140409T221500
UID:/content/rbb/rbb/fernsehen/programm/09_04_2014/11913479924
DTSTAMP:20140404T202800
DESCRIPTION:+ Premium-Taxis\n\n+ Green Jobs\n\n+ Osterlamm in Gefahr\n\n+ Drucken in 3D\n\n+ was! appt: moovel\n\n\n
SUMMARY:was! 09.04.2014 22:15
END:VEVENT
END:VCALENDAR
