BEGIN:VCALENDAR
X-WR-TIMEZONE:Europe/Berlin
X-WR-CALNAME:rbb-Kalender
VERSION:2.0
METHOD:PUBLISH
CALSCALE:GREGORIAN
PRODID:rbb-CMS DAY
BEGIN:VEVENT
LOCATION:Spielfilm Deutschland / China 2011
CLASS:PUBLIC
URL:http://www.rbb-online.de/content/rbb/rbb/fernsehen/programm/09_04_2014/11913480010.html
DTEND:20140410T010000
DTSTART:20140409T233000
UID:/content/rbb/rbb/fernsehen/programm/09_04_2014/11913480010
DTSTAMP:20140404T202604
DESCRIPTION:Tagtäglich überbringt Ling den Bewohnern der Mega-Metropole Chongqing im Clownskostüm persönliche Botschaften. Hier trifft sie auf Yu, einen chinesischen Reisenden aus Berlin, der ihr zum Abschied ein iPhone schenkt, über das sie zärtliche Nachrichten austauschen. Aber Ling will mehr und folgt dem Herzensbrecher in die deutsche Hauptstadt, wo sie wider Erwarten von seinem Chauffeur Marco empfangen und tagelang durch die Stadt gelotst wird. Als Ling zurück nach Chongqing soll, beschließt sie allein nach Yu zu suchen. Ein nicht ganz ungefährliches Vorhaben, das sie durch Berliner Privatwohnungen und Obdachlosenheime führt.
SUMMARY:I Phone You 09.04.2014 23:30
END:VEVENT
END:VCALENDAR
