BEGIN:VCALENDAR
X-WR-TIMEZONE:Europe/Berlin
X-WR-CALNAME:rbb-Kalender
VERSION:2.0
METHOD:PUBLISH
CALSCALE:GREGORIAN
PRODID:rbb-CMS DAY
BEGIN:VEVENT
LOCATION:Fernsehserie Deutschland 2014
CLASS:PUBLIC
URL:http://www.rbb-online.de/content/rbb/rbb/fernsehen/programm/10_04_2014/11935766777.html
DTEND:20140410T112500
DTSTART:20140410T103500
UID:/content/rbb/rbb/fernsehen/programm/10_04_2014/11935766777
DTSTAMP:20140404T195648
DESCRIPTION:Malte gelingt es, Tine eine halbwegs plausible Geschichte aufzutischen, warum er wieder Kontakt zu Petrov hat. Unterdessen entsteht ein Katz-und-Maus-Spiel zwischen Lisa und Malte um Renners Geständnis. Carla ist beruhigt, dass der geheimnisvolle "Lukullus" sich als ihr Vater Nicos entpuppt. Merkwürdiger wird es, als Nicos weiter versucht, ihr größere Mengen Geld aufzudrängen. Merle muss ernüchtert feststellen, dass Jan Dieck der Gärtnerei erheblich geschadet hat. Mithilfe von Ariane und Lotte wird eine charmante Werbeaktion gestartet.
SUMMARY:Rote Rosen (1701) 10.04.2014 10:35
END:VEVENT
END:VCALENDAR
