BEGIN:VCALENDAR
X-WR-TIMEZONE:Europe/Berlin
X-WR-CALNAME:rbb-Kalender
VERSION:2.0
METHOD:PUBLISH
CALSCALE:GREGORIAN
PRODID:rbb-CMS DAY
BEGIN:VEVENT
LOCATION:Fernsehserie Deutschland 2014
CLASS:PUBLIC
URL:http://www.rbb-online.de/content/rbb/rbb/fernsehen/programm/10_04_2014/11935766822.html
DTEND:20140410T121500
DTSTART:20140410T112500
UID:/content/rbb/rbb/fernsehen/programm/10_04_2014/11935766822
DTSTAMP:20140404T195616
DESCRIPTION:Pauline erfährt von Chris und Daniel. Werner hat eine Verbündete. Natascha kämpft für einen Frauenumkleideraum. Goran bricht die Wette ab.\n* Tina hat den intimen Moment zwischen Daniel und Chris heimlich beobachtet und zieht sich unbemerkt zurück. Daher bekommt sie nicht mit, dass Daniel Chris entschieden von sich weist und ihm klarmacht, dass er Pauline noch immer liebt. Schockiert versucht Tina zu verarbeiten, was sie gesehen hat und als sie Chris damit konfrontiert, lässt er schließlich vor Tina die Maske fallen.
SUMMARY:Sturm der Liebe (1961) 10.04.2014 11:25
END:VEVENT
END:VCALENDAR
