BEGIN:VCALENDAR
X-WR-TIMEZONE:Europe/Berlin
X-WR-CALNAME:rbb-Kalender
VERSION:2.0
METHOD:PUBLISH
CALSCALE:GREGORIAN
PRODID:rbb-CMS DAY
BEGIN:VEVENT
LOCATION:Kinderserie Deutschland 2011
CLASS:PUBLIC
URL:http://www.rbb-online.de/content/rbb/rbb/fernsehen/programm/10_04_2014/11935767028.html
DTEND:20140410T133000
DTSTART:20140410T130500
UID:/content/rbb/rbb/fernsehen/programm/10_04_2014/11935767028
DTSTAMP:20140404T195606
DESCRIPTION:Im Internat bricht das "Afrikafieber" aus! Nachdem Kim, Laura und Elisabeth eine Doku über afrikanische Kinder gesehen haben, wollen sie per Internet mehr über diesen spannenden Kontinent herausfinden. Auf den Web-Seiten von UNICEF entdecken sie, dass sich auch KI.KA-Moderator Juri Tetzlaff für das Hilfswerk engagiert und die Mädels laden ihn kurzerhand nach Schloss Einstein ein, natürlich ohne das Wissen der Erwachsenen. Kurz darauf erhält der verdutzte Direktor Dr. Stollberg einen Anruf von UNICEF.
SUMMARY:Schloss Einstein (229) 10.04.2014 13:05
END:VEVENT
END:VCALENDAR
