BEGIN:VCALENDAR
X-WR-TIMEZONE:Europe/Berlin
X-WR-CALNAME:rbb-Kalender
VERSION:2.0
METHOD:PUBLISH
CALSCALE:GREGORIAN
PRODID:rbb-CMS DAY
BEGIN:VEVENT
LOCATION:Live aus dem Abgeordnetenhaus Berlin
CLASS:PUBLIC
URL:http://www.rbb-online.de/content/rbb/rbb/fernsehen/programm/10_04_2014/11935767277.html
DTEND:20140410T170000
DTSTART:20140410T160500
UID:/content/rbb/rbb/fernsehen/programm/10_04_2014/11935767277
DTSTAMP:20140404T195327
DESCRIPTION:Politik braucht Transparenz. Und Öffentlichkeit ist wesentlicher Bestandteil der parlamentarischen Demokratie. "Heute im Parlament" zeigt die Parlamentsdebatten aus dem Berliner Abgeordnetenhaus und dem Brandenburger Landtag.
SUMMARY:Heute im Parlament 10.04.2014 16:05
END:VEVENT
END:VCALENDAR
