BEGIN:VCALENDAR
X-WR-TIMEZONE:Europe/Berlin
X-WR-CALNAME:rbb-Kalender
VERSION:2.0
METHOD:PUBLISH
CALSCALE:GREGORIAN
PRODID:rbb-CMS DAY
BEGIN:VEVENT
LOCATION:Das Gesundheitsmagazin
CLASS:PUBLIC
URL:http://www.rbb-online.de/content/rbb/rbb/fernsehen/programm/11_04_2014/11935772374.html
DTEND:20140411T070000
DTSTART:20140411T061500
UID:/content/rbb/rbb/fernsehen/programm/11_04_2014/11935772374
DTSTAMP:20140404T193850
DESCRIPTION:Themen:\n* Stroke-Einsatz-Mobil verbessert Schlaganfall-Versorgung\n* Heilung mit Überdruck\n* Medikamente gegen Rheuma\n* 100 Jahre Unfallheilkunde in Cottbus\n\nModeration: Raiko Thal
SUMMARY:rbb Praxis 11.04.2014 06:15
END:VEVENT
END:VCALENDAR
