BEGIN:VCALENDAR
X-WR-TIMEZONE:Europe/Berlin
X-WR-CALNAME:rbb-Kalender
VERSION:2.0
METHOD:PUBLISH
CALSCALE:GREGORIAN
PRODID:rbb-CMS DAY
BEGIN:VEVENT
LOCATION:Die inneren Werte
CLASS:PUBLIC
URL:http://www.rbb-online.de/content/rbb/rbb/fernsehen/programm/11_04_2014/11935773792.html
DTEND:20140411T130000
DTSTART:20140411T121500
UID:/content/rbb/rbb/fernsehen/programm/11_04_2014/11935773792
DTSTAMP:20140404T193809
DESCRIPTION:Benjamin Evers kommt mit einer leichten Knieverletzung in die Klinik. Die zunächst harmlose Verletzung entzündet sich, und Benjamin bekommt Fieber. Dr. Globisch behandelt gegen den Widerstand der Mutter Carolin, die strikt für Homöopathie ist, mit Antibiotika. Über Nacht geht die Entzündung zurück, doch das Fieber steigt weiter. Dr. Globisch vermutet eine Vergiftung.
SUMMARY:In aller Freundschaft (371) 11.04.2014 12:15
END:VEVENT
END:VCALENDAR
