BEGIN:VCALENDAR
X-WR-TIMEZONE:Europe/Berlin
X-WR-CALNAME:rbb-Kalender
VERSION:2.0
METHOD:PUBLISH
CALSCALE:GREGORIAN
PRODID:rbb-CMS DAY
BEGIN:VEVENT
LOCATION:Immobilienhaie
CLASS:PUBLIC
URL:http://www.rbb-online.de/content/rbb/rbb/fernsehen/programm/11_04_2014/11935774377.html
DTEND:20140411T141500
DTSTART:20140411T133000
UID:/content/rbb/rbb/fernsehen/programm/11_04_2014/11935774377
DTSTAMP:20140404T193700
DESCRIPTION:Jessica muss verhindern, dass Cabot Cove einem durchtriebenen Plan zum Opfer fällt.
SUMMARY:Mord ist ihr Hobby (237) 11.04.2014 13:30
END:VEVENT
END:VCALENDAR
