BEGIN:VCALENDAR
X-WR-TIMEZONE:Europe/Berlin
X-WR-CALNAME:rbb-Kalender
VERSION:2.0
METHOD:PUBLISH
CALSCALE:GREGORIAN
PRODID:rbb-CMS DAY
BEGIN:VEVENT
LOCATION:Madeira - Insel der Blumen
CLASS:PUBLIC
URL:http://www.rbb-online.de/content/rbb/rbb/fernsehen/programm/11_04_2014/11935774606.html
DTEND:20140411T160000
DTSTART:20140411T151500
UID:/content/rbb/rbb/fernsehen/programm/11_04_2014/11935774606
DTSTAMP:20140404T193811
DESCRIPTION:Madeira ist Europas immergrüne Insel im Atlantik. Das Klima, lauer Sommer und milder Winter, sorgt für das üppige Blumenmeer der Insel, und schon Kaiserin Sissi reiste dorthin, um ihre Krankheit zu kurieren. mareTV besucht Antonio Abreu. Er züchtet auf Madeira seit mehreren Jahrzehnten Pflanzen. Mit einem alten Regenschirm marschiert er durch sein Gewächshaus, weil seine selbst ausgetüftelte Sprenkleranlage über die Levadas, das traditionelle Kanalsystem der Insel, mit Wasser aus den Bergen versorgt wird.
SUMMARY:mareTV 11.04.2014 15:15
END:VEVENT
END:VCALENDAR
