BEGIN:VCALENDAR
X-WR-TIMEZONE:Europe/Berlin
X-WR-CALNAME:rbb-Kalender
VERSION:2.0
METHOD:PUBLISH
CALSCALE:GREGORIAN
PRODID:rbb-CMS DAY
BEGIN:VEVENT
LOCATION:Pondorondos Lieder: Meine Blümchen haben Durst
CLASS:PUBLIC
URL:http://www.rbb-online.de/content/rbb/rbb/fernsehen/programm/11_04_2014/11935775106.html
DTEND:20140411T180000
DTSTART:20140411T175500
UID:/content/rbb/rbb/fernsehen/programm/11_04_2014/11935775106
DTSTAMP:20140404T193731
DESCRIPTION:"Unser Sandmännchen" steht nicht nur auf der Hitliste der jüngsten Zuschauer. Es hat seine Fans auch bei den Eltern und Großeltern. Und es ist auch heute seine Aufgabe, die Kinder mit einer Gute-Nacht-Geschichte ins Bett zu bringen.
SUMMARY:Unser Sandmännchen 11.04.2014 17:55
END:VEVENT
END:VCALENDAR
