BEGIN:VCALENDAR
X-WR-TIMEZONE:Europe/Berlin
X-WR-CALNAME:rbb-Kalender
VERSION:2.0
METHOD:PUBLISH
CALSCALE:GREGORIAN
PRODID:rbb-CMS DAY
BEGIN:VEVENT
LOCATION:Die Wetteraussichten für Berlin und Brandenburg
CLASS:PUBLIC
URL:http://www.rbb-online.de/content/rbb/rbb/fernsehen/programm/11_04_2014/11935775418.html
DTEND:20140411T183000
DTSTART:20140411T182500
UID:/content/rbb/rbb/fernsehen/programm/11_04_2014/11935775418
DTSTAMP:20140404T193846
DESCRIPTION:
SUMMARY:rbb wetter 11.04.2014 18:25
END:VEVENT
END:VCALENDAR
