BEGIN:VCALENDAR
X-WR-TIMEZONE:Europe/Berlin
X-WR-CALNAME:rbb-Kalender
VERSION:2.0
METHOD:PUBLISH
CALSCALE:GREGORIAN
PRODID:rbb-CMS DAY
BEGIN:VEVENT
LOCATION:Von Peking nach Südkorea
CLASS:PUBLIC
URL:http://www.rbb-online.de/content/rbb/rbb/fernsehen/programm/11_04_2014/11935776076.html
DTEND:20140411T210000
DTSTART:20140411T201500
UID:/content/rbb/rbb/fernsehen/programm/11_04_2014/11935776076
DTSTAMP:20140404T193648
DESCRIPTION:Zwei Geländewagen, ein Team und 27.000 Straßenkilometer. Ein neues Roadmovie lädt die Zuschauer ein zum außergewöhnlichen Abenteuer "fernOST - Von Berlin nach Tokio". Eine Reise quer durch Asien immer entlang der Straßen des "Asian Highway". Von Peking nach Südkorea. Auf dem Weg nach Japan liegt die boomende Hauptstadt Seoul und die zweitgrößte Stadt des Landes, die Hafenstadt Busan.
SUMMARY:fernOST - Von Berlin nach Tokio (9/10) 11.04.2014 20:15
END:VEVENT
END:VCALENDAR
