BEGIN:VCALENDAR
X-WR-TIMEZONE:Europe/Berlin
X-WR-CALNAME:rbb-Kalender
VERSION:2.0
METHOD:PUBLISH
CALSCALE:GREGORIAN
PRODID:rbb-CMS DAY
BEGIN:VEVENT
CLASS:PUBLIC
URL:http://www.rbb-online.de/content/rbb/rbb/fernsehen/programm/11_04_2014/11935776219.html
DTEND:20140411T220000
DTSTART:20140411T214500
UID:/content/rbb/rbb/fernsehen/programm/11_04_2014/11935776219
DTSTAMP:20140404T193649
DESCRIPTION:Wir informieren Sie täglich mehrmals mit Nachrichtenausgaben über wichtige aktuelle Ereignisse der Region. Immer mittwochs gibt es empfehlenswerte Filmpremieren, donnerstags die wichtigsten Veranstaltungen des Wochenendes in Berlin und Brandenburg. 365 Tage im Jahr - das Wichtigste vom Tage aus Berlin und Brandenburg.
SUMMARY:rbb AKTUELL 11.04.2014 21:45
END:VEVENT
END:VCALENDAR
