BEGIN:VCALENDAR
X-WR-TIMEZONE:Europe/Berlin
X-WR-CALNAME:rbb-Kalender
VERSION:2.0
METHOD:PUBLISH
CALSCALE:GREGORIAN
PRODID:rbb-CMS DAY
BEGIN:VEVENT
LOCATION:Klassiker der Unterhaltung moderiert von Chris Howland
CLASS:PUBLIC
URL:http://www.rbb-online.de/content/rbb/rbb/fernsehen/programm/12_04_2014/11935765938.html
DTEND:20140412T004500
DTSTART:20140412T000000
UID:/content/rbb/rbb/fernsehen/programm/12_04_2014/11935765938
DTSTAMP:20140404T193934
DESCRIPTION:Die 50. Ausgabe seiner Sendung "Musik aus Studio B" feiert Chris Howland mit den eingeladenen Gästen: Ralf Bendix, Lolita, Manuela, Vicky Leandros, Peter Beil, Rex Gildo, Dorthe Kollo und Gus Backus. Es singen die Hot Dogs, die Cornely Singers, Friedel Hensch und die Cyprys, Peter Hinnen und Su, das Medium Terzett sowie Bill Ramsey, Illu Schieda, Andy Fisher und Billy Mo. Es tanzt das Hamburger Fernsehballett.
SUMMARY:Musik aus Studio B 12.04.2014 00:00
END:VEVENT
END:VCALENDAR
