BEGIN:VCALENDAR
X-WR-TIMEZONE:Europe/Berlin
X-WR-CALNAME:rbb-Kalender
VERSION:2.0
METHOD:PUBLISH
CALSCALE:GREGORIAN
PRODID:rbb-CMS DAY
BEGIN:VEVENT
LOCATION:Der rbb Kriminalreport mit Uwe Madel
CLASS:PUBLIC
URL:http://www.rbb-online.de/content/rbb/rbb/fernsehen/programm/12_04_2014/11935766374.html
DTEND:20140412T042500
DTSTART:20140412T040000
UID:/content/rbb/rbb/fernsehen/programm/12_04_2014/11935766374
DTSTAMP:20140404T193601
DESCRIPTION:T-O-P  ist das rbb Kriminalmagazin für Berlin und Brandenburg. Moderator Uwe Madel präsentiert aktuelle Fahndungsersuchen der Landeskriminalämter der Region.\n\nModeration: Uwe Madel
SUMMARY:Täter - Opfer - Polizei 12.04.2014 04:00
END:VEVENT
END:VCALENDAR
