BEGIN:VCALENDAR
X-WR-TIMEZONE:Europe/Berlin
X-WR-CALNAME:rbb-Kalender
VERSION:2.0
METHOD:PUBLISH
CALSCALE:GREGORIAN
PRODID:rbb-CMS DAY
BEGIN:VEVENT
LOCATION:Mit Marc und einem Buchtipp nach dem anderen
CLASS:PUBLIC
URL:http://www.rbb-online.de/content/rbb/rbb/fernsehen/programm/12_04_2014/11935766618.html
DTEND:20140412T080000
DTSTART:20140412T074500
UID:/content/rbb/rbb/fernsehen/programm/12_04_2014/11935766618
DTSTAMP:20140404T185952
DESCRIPTION:"quergelesen" wird 10 - wenn das kein Grund zum feiern ist. Am 4. April 2004 wurde die erste Sendung im KiKA ausgestrahlt und inzwischen haben wir in ungefähr 120 Sendungen zwischen  600 und 700 Bücher vorgestellt und noch viel mehr gelesen. Heute werden folgende Bücher vorgestellt: "Die erstaunlichen Abenteuer der Maulina Schmitt", "Die Wahrheit, wie Delly sie sieht" und "Der Junge, der mit den Piranhas schwamm".
SUMMARY:quergelesen 12.04.2014 07:45
END:VEVENT
END:VCALENDAR
